BEGIN:VCALENDAR
VERSION:2.0
PRODID:-//Les Sons du Lub&#039; - ECPv6.15.20//NONSGML v1.0//EN
CALSCALE:GREGORIAN
METHOD:PUBLISH
X-WR-CALNAME:Les Sons du Lub&#039;
X-ORIGINAL-URL:https://www.sonsdulub.fr
X-WR-CALDESC:Évènements pour Les Sons du Lub&#039;
REFRESH-INTERVAL;VALUE=DURATION:PT1H
X-Robots-Tag:noindex
X-PUBLISHED-TTL:PT1H
BEGIN:VTIMEZONE
TZID:Europe/Paris
BEGIN:DAYLIGHT
TZOFFSETFROM:+0100
TZOFFSETTO:+0200
TZNAME:CEST
DTSTART:20250330T010000
END:DAYLIGHT
BEGIN:STANDARD
TZOFFSETFROM:+0200
TZOFFSETTO:+0100
TZNAME:CET
DTSTART:20251026T010000
END:STANDARD
BEGIN:DAYLIGHT
TZOFFSETFROM:+0100
TZOFFSETTO:+0200
TZNAME:CEST
DTSTART:20260329T010000
END:DAYLIGHT
BEGIN:STANDARD
TZOFFSETFROM:+0200
TZOFFSETTO:+0100
TZNAME:CET
DTSTART:20261025T010000
END:STANDARD
BEGIN:DAYLIGHT
TZOFFSETFROM:+0100
TZOFFSETTO:+0200
TZNAME:CEST
DTSTART:20270328T010000
END:DAYLIGHT
BEGIN:STANDARD
TZOFFSETFROM:+0200
TZOFFSETTO:+0100
TZNAME:CET
DTSTART:20271031T010000
END:STANDARD
END:VTIMEZONE
BEGIN:VEVENT
DTSTART;TZID=Europe/Paris:20260330T180000
DTEND;TZID=Europe/Paris:20260530T233000
DTSTAMP:20260424T113054
CREATED:20260119T114223Z
LAST-MODIFIED:20260119T114223Z
UID:3504-1774893600-1780183800@www.sonsdulub.fr
SUMMARY:Les Sons du Lub' 2026 - La Tour d'Aigues
DESCRIPTION:
URL:https://www.sonsdulub.fr/event/les-sons-du-lub-2026-la-tour-daigues/
LOCATION:Chateau de La Tour d’Aigues\, La Tour d'Aigues\, 84240\, France
END:VEVENT
BEGIN:VEVENT
DTSTART;TZID=Europe/Paris:20260522T160000
DTEND;TZID=Europe/Paris:20260523T233000
DTSTAMP:20260424T113054
CREATED:20260119T110110Z
LAST-MODIFIED:20260119T110110Z
UID:3495-1779465600-1779579000@www.sonsdulub.fr
SUMMARY:Les Sons du Lub' 2026 - Beaumont-de-Pertuis
DESCRIPTION:
URL:https://www.sonsdulub.fr/event/les-sons-du-lub-2026-beaumont-de-pertuis/
LOCATION:Beaumont-de-Pertuis\, Beaumont-de-Pertuis\, France
END:VEVENT
END:VCALENDAR